BEGIN:VCALENDAR
VERSION:2.0
PRODID:-//Legacy Ridge Golf Club - ECPv6.15.20//NONSGML v1.0//EN
CALSCALE:GREGORIAN
METHOD:PUBLISH
X-ORIGINAL-URL:https://legacyridgegolf.ca
X-WR-CALDESC:Events for Legacy Ridge Golf Club
REFRESH-INTERVAL;VALUE=DURATION:PT1H
X-Robots-Tag:noindex
X-PUBLISHED-TTL:PT1H
BEGIN:VTIMEZONE
TZID:America/New_York
BEGIN:DAYLIGHT
TZOFFSETFROM:-0500
TZOFFSETTO:-0400
TZNAME:EDT
DTSTART:20210314T070000
END:DAYLIGHT
BEGIN:STANDARD
TZOFFSETFROM:-0400
TZOFFSETTO:-0500
TZNAME:EST
DTSTART:20211107T060000
END:STANDARD
BEGIN:DAYLIGHT
TZOFFSETFROM:-0500
TZOFFSETTO:-0400
TZNAME:EDT
DTSTART:20220313T070000
END:DAYLIGHT
BEGIN:STANDARD
TZOFFSETFROM:-0400
TZOFFSETTO:-0500
TZNAME:EST
DTSTART:20221106T060000
END:STANDARD
BEGIN:DAYLIGHT
TZOFFSETFROM:-0500
TZOFFSETTO:-0400
TZNAME:EDT
DTSTART:20230312T070000
END:DAYLIGHT
BEGIN:STANDARD
TZOFFSETFROM:-0400
TZOFFSETTO:-0500
TZNAME:EST
DTSTART:20231105T060000
END:STANDARD
END:VTIMEZONE
BEGIN:VEVENT
DTSTART;TZID=America/New_York:20220901T090000
DTEND;TZID=America/New_York:20220901T103000
DTSTAMP:20260420T121656
CREATED:20220607T160101Z
LAST-MODIFIED:20220607T160101Z
UID:6011-1662022800-1662028200@legacyridgegolf.ca
SUMMARY:Senior Women's League
DESCRIPTION:Our Senior Women’s League is a 9-Hole and 18-hole league for Women ages 55 and up. Tee times will be blocked from 9:00am – 10:30am every Thursday. Our Golf Shop staff will organize groups and tee times every week to ensure you are playing with different players on a weekly basis! This league is designed for the recreational golfer. If you don’t like keeping your score\, no problem! A relaxed\, social round of golf on Thursday mornings. \nRegistration Fee: N/A \nWeekly Fee: N/A \nDay of the Week: Thursday \nTime: Tee Times from 9:00am – 10:30am \nOpening Luncheon: Thursday\, May 19th \nClosing Luncheon: Thursday\, September 22nd \n\n\n\n\nCONTACT SAM MCEVENUE AT SAM@LEGACYRIDGEGOLF.CA TO REGISTER TODAY!
URL:https://legacyridgegolf.ca/events-calender/senior-womens-league-14/
END:VEVENT
BEGIN:VEVENT
DTSTART;TZID=America/New_York:20220901T110000
DTEND;TZID=America/New_York:20220901T110000
DTSTAMP:20260420T121656
CREATED:20220607T140606Z
LAST-MODIFIED:20220607T140606Z
UID:5952-1662030000-1662030000@legacyridgegolf.ca
SUMMARY:Women’s Inter-Club @ Legacy Ridge
DESCRIPTION:Tee times @ 11:00am
URL:https://legacyridgegolf.ca/events-calender/womens-inter-club-legacy-ridge/
END:VEVENT
BEGIN:VEVENT
DTSTART;VALUE=DATE:20220906
DTEND;VALUE=DATE:20220907
DTSTAMP:20260420T121656
CREATED:20220607T151308Z
LAST-MODIFIED:20220607T151308Z
UID:5976-1662422400-1662508799@legacyridgegolf.ca
SUMMARY:Women's League Playoffs (F9)
DESCRIPTION:
URL:https://legacyridgegolf.ca/events-calender/womens-league-playoffs-f9/
END:VEVENT
BEGIN:VEVENT
DTSTART;VALUE=DATE:20220907
DTEND;VALUE=DATE:20220908
DTSTAMP:20260420T121656
CREATED:20220607T155201Z
LAST-MODIFIED:20220607T155201Z
UID:6000-1662508800-1662595199@legacyridgegolf.ca
SUMMARY:Men's League Playoffs (B9)
DESCRIPTION:
URL:https://legacyridgegolf.ca/events-calender/mens-league-playoffs-b9/
END:VEVENT
BEGIN:VEVENT
DTSTART;TZID=America/New_York:20220908T090000
DTEND;TZID=America/New_York:20220908T103000
DTSTAMP:20260420T121656
CREATED:20220607T160128Z
LAST-MODIFIED:20220607T160128Z
UID:6012-1662627600-1662633000@legacyridgegolf.ca
SUMMARY:Senior Women's League
DESCRIPTION:Our Senior Women’s League is a 9-Hole and 18-hole league for Women ages 55 and up. Tee times will be blocked from 9:00am – 10:30am every Thursday. Our Golf Shop staff will organize groups and tee times every week to ensure you are playing with different players on a weekly basis! This league is designed for the recreational golfer. If you don’t like keeping your score\, no problem! A relaxed\, social round of golf on Thursday mornings. \nRegistration Fee: N/A \nWeekly Fee: N/A \nDay of the Week: Thursday \nTime: Tee Times from 9:00am – 10:30am \nOpening Luncheon: Thursday\, May 19th \nClosing Luncheon: Thursday\, September 22nd \n\n\n\n\nCONTACT SAM MCEVENUE AT SAM@LEGACYRIDGEGOLF.CA TO REGISTER TODAY!
URL:https://legacyridgegolf.ca/events-calender/senior-womens-league-15/
END:VEVENT
BEGIN:VEVENT
DTSTART;VALUE=DATE:20220909
DTEND;VALUE=DATE:20220910
DTSTAMP:20260420T121656
CREATED:20220607T140735Z
LAST-MODIFIED:20220607T140735Z
UID:5953-1662681600-1662767999@legacyridgegolf.ca
SUMMARY:Swing Your Sticks
DESCRIPTION:TBD start time
URL:https://legacyridgegolf.ca/events-calender/swing-your-sticks-2/
END:VEVENT
BEGIN:VEVENT
DTSTART;TZID=America/New_York:20220912T090000
DTEND;TZID=America/New_York:20220912T090000
DTSTAMP:20260420T121656
CREATED:20220607T140804Z
LAST-MODIFIED:20220607T140804Z
UID:5954-1662973200-1662973200@legacyridgegolf.ca
SUMMARY:Senior 2-Man Scramble
DESCRIPTION:Tee times @ 9:00am
URL:https://legacyridgegolf.ca/events-calender/senior-2-man-scramble-2/
END:VEVENT
BEGIN:VEVENT
DTSTART;VALUE=DATE:20220913
DTEND;VALUE=DATE:20220914
DTSTAMP:20260420T121656
CREATED:20220607T151338Z
LAST-MODIFIED:20220607T151338Z
UID:5977-1663027200-1663113599@legacyridgegolf.ca
SUMMARY:Women's League Playoffs (B9)
DESCRIPTION:
URL:https://legacyridgegolf.ca/events-calender/womens-league-playoffs-b9/
END:VEVENT
BEGIN:VEVENT
DTSTART;VALUE=DATE:20220914
DTEND;VALUE=DATE:20220915
DTSTAMP:20260420T121656
CREATED:20220607T155227Z
LAST-MODIFIED:20220607T155227Z
UID:6001-1663113600-1663199999@legacyridgegolf.ca
SUMMARY:Men's League Playoffs (F9)
DESCRIPTION:
URL:https://legacyridgegolf.ca/events-calender/mens-league-playoffs-f9/
END:VEVENT
BEGIN:VEVENT
DTSTART;TZID=America/New_York:20220915T090000
DTEND;TZID=America/New_York:20220915T103000
DTSTAMP:20260420T121656
CREATED:20220607T160151Z
LAST-MODIFIED:20220607T160151Z
UID:6013-1663232400-1663237800@legacyridgegolf.ca
SUMMARY:Senior Women's League
DESCRIPTION:Our Senior Women’s League is a 9-Hole and 18-hole league for Women ages 55 and up. Tee times will be blocked from 9:00am – 10:30am every Thursday. Our Golf Shop staff will organize groups and tee times every week to ensure you are playing with different players on a weekly basis! This league is designed for the recreational golfer. If you don’t like keeping your score\, no problem! A relaxed\, social round of golf on Thursday mornings. \nRegistration Fee: N/A \nWeekly Fee: N/A \nDay of the Week: Thursday \nTime: Tee Times from 9:00am – 10:30am \nOpening Luncheon: Thursday\, May 19th \nClosing Luncheon: Thursday\, September 22nd \n\n\n\n\nCONTACT SAM MCEVENUE AT SAM@LEGACYRIDGEGOLF.CA TO REGISTER TODAY!
URL:https://legacyridgegolf.ca/events-calender/senior-womens-league-16/
END:VEVENT
BEGIN:VEVENT
DTSTART;TZID=America/New_York:20220916T100000
DTEND;TZID=America/New_York:20220916T100000
DTSTAMP:20260420T121656
CREATED:20220607T140836Z
LAST-MODIFIED:20220607T140836Z
UID:5955-1663322400-1663322400@legacyridgegolf.ca
SUMMARY:Chamber of Commerce
DESCRIPTION:Tee times @ 10:00am
URL:https://legacyridgegolf.ca/events-calender/chamber-of-commerce/
END:VEVENT
BEGIN:VEVENT
DTSTART;TZID=America/New_York:20220919T080000
DTEND;TZID=America/New_York:20220919T103000
DTSTAMP:20260420T121656
CREATED:20220607T144136Z
LAST-MODIFIED:20220607T144136Z
UID:5966-1663574400-1663583400@legacyridgegolf.ca
SUMMARY:Seniors League Playoffs
DESCRIPTION:
URL:https://legacyridgegolf.ca/events-calender/seniors-league-playoffs-2/
END:VEVENT
BEGIN:VEVENT
DTSTART;TZID=America/New_York:20220920T163000
DTEND;TZID=America/New_York:20220920T163000
DTSTAMP:20260420T121656
CREATED:20220607T151503Z
LAST-MODIFIED:20220607T151503Z
UID:5978-1663691400-1663691400@legacyridgegolf.ca
SUMMARY:Women's League Closing (F9) - 4:30pm Shotgun - Sponsored by Foodland
DESCRIPTION:
URL:https://legacyridgegolf.ca/events-calender/womens-league-closing-f9-430pm-shotgun-sponsored-by-foodland/
END:VEVENT
BEGIN:VEVENT
DTSTART;VALUE=DATE:20220921
DTEND;VALUE=DATE:20220922
DTSTAMP:20260420T121656
CREATED:20220607T155247Z
LAST-MODIFIED:20220607T155247Z
UID:6002-1663718400-1663804799@legacyridgegolf.ca
SUMMARY:Men's League Playoffs (B9)
DESCRIPTION:
URL:https://legacyridgegolf.ca/events-calender/mens-league-playoffs-b9-2/
END:VEVENT
BEGIN:VEVENT
DTSTART;TZID=America/New_York:20220922T090000
DTEND;TZID=America/New_York:20220922T103000
DTSTAMP:20260420T121656
CREATED:20220607T160220Z
LAST-MODIFIED:20220607T160220Z
UID:6014-1663837200-1663842600@legacyridgegolf.ca
SUMMARY:Senior Women's League Closing
DESCRIPTION:
URL:https://legacyridgegolf.ca/events-calender/senior-womens-league-closing/
END:VEVENT
BEGIN:VEVENT
DTSTART;TZID=America/New_York:20220924T103000
DTEND;TZID=America/New_York:20220924T103000
DTSTAMP:20260420T121656
CREATED:20220607T140912Z
LAST-MODIFIED:20220607T140912Z
UID:5956-1664015400-1664015400@legacyridgegolf.ca
SUMMARY:Crescent Club
DESCRIPTION:Tee times @ 10:30am
URL:https://legacyridgegolf.ca/events-calender/crescent-club/
END:VEVENT
BEGIN:VEVENT
DTSTART;VALUE=DATE:20220926
DTEND;VALUE=DATE:20220927
DTSTAMP:20260420T121656
CREATED:20220607T144703Z
LAST-MODIFIED:20220607T144703Z
UID:5967-1664150400-1664236799@legacyridgegolf.ca
SUMMARY:Seniors League Playoffs & Closing - Sponsored by Foodland
DESCRIPTION:
URL:https://legacyridgegolf.ca/events-calender/seniors-league-playoffs-closing-sponsored-by-foodland/
END:VEVENT
BEGIN:VEVENT
DTSTART;TZID=America/New_York:20220927T090000
DTEND;TZID=America/New_York:20220927T090000
DTSTAMP:20260420T121656
CREATED:20220607T140942Z
LAST-MODIFIED:20220607T140942Z
UID:5957-1664269200-1664269200@legacyridgegolf.ca
SUMMARY:Georgian Bay Women’s Scramble
DESCRIPTION:Tee times @ 9:00am
URL:https://legacyridgegolf.ca/events-calender/georgian-bay-womens-scramble-3/
END:VEVENT
BEGIN:VEVENT
DTSTART;VALUE=DATE:20220928
DTEND;VALUE=DATE:20220929
DTSTAMP:20260420T121656
CREATED:20220607T155321Z
LAST-MODIFIED:20220607T155321Z
UID:6003-1664323200-1664409599@legacyridgegolf.ca
SUMMARY:Men's League Playoffs (F9)
DESCRIPTION:
URL:https://legacyridgegolf.ca/events-calender/mens-league-playoffs-f9-2/
END:VEVENT
END:VCALENDAR