BEGIN:VCALENDAR
VERSION:2.0
PRODID:-//Legacy Ridge Golf Club - ECPv6.15.20//NONSGML v1.0//EN
CALSCALE:GREGORIAN
METHOD:PUBLISH
X-ORIGINAL-URL:https://legacyridgegolf.ca
X-WR-CALDESC:Events for Legacy Ridge Golf Club
REFRESH-INTERVAL;VALUE=DURATION:PT1H
X-Robots-Tag:noindex
X-PUBLISHED-TTL:PT1H
BEGIN:VTIMEZONE
TZID:America/New_York
BEGIN:DAYLIGHT
TZOFFSETFROM:-0500
TZOFFSETTO:-0400
TZNAME:EDT
DTSTART:20230312T070000
END:DAYLIGHT
BEGIN:STANDARD
TZOFFSETFROM:-0400
TZOFFSETTO:-0500
TZNAME:EST
DTSTART:20231105T060000
END:STANDARD
BEGIN:DAYLIGHT
TZOFFSETFROM:-0500
TZOFFSETTO:-0400
TZNAME:EDT
DTSTART:20240310T070000
END:DAYLIGHT
BEGIN:STANDARD
TZOFFSETFROM:-0400
TZOFFSETTO:-0500
TZNAME:EST
DTSTART:20241103T060000
END:STANDARD
BEGIN:DAYLIGHT
TZOFFSETFROM:-0500
TZOFFSETTO:-0400
TZNAME:EDT
DTSTART:20250309T070000
END:DAYLIGHT
BEGIN:STANDARD
TZOFFSETFROM:-0400
TZOFFSETTO:-0500
TZNAME:EST
DTSTART:20251102T060000
END:STANDARD
END:VTIMEZONE
BEGIN:VEVENT
DTSTART;TZID=America/New_York:20240302T110000
DTEND;TZID=America/New_York:20240302T170000
DTSTAMP:20260420T063353
CREATED:20240219T204731Z
LAST-MODIFIED:20240219T204732Z
UID:6435-1709377200-1709398800@legacyridgegolf.ca
SUMMARY:Taylormade Fitting Day
DESCRIPTION:
URL:https://legacyridgegolf.ca/events-calender/taylormade-fitting-day/
END:VEVENT
BEGIN:VEVENT
DTSTART;TZID=America/New_York:20240309T110000
DTEND;TZID=America/New_York:20240309T160000
DTSTAMP:20260420T063353
CREATED:20240219T204756Z
LAST-MODIFIED:20240219T204756Z
UID:6436-1709982000-1710000000@legacyridgegolf.ca
SUMMARY:Titleist Fitting Day
DESCRIPTION:
URL:https://legacyridgegolf.ca/events-calender/titleist-fitting-day/
END:VEVENT
BEGIN:VEVENT
DTSTART;TZID=America/New_York:20240316T100000
DTEND;TZID=America/New_York:20240316T150000
DTSTAMP:20260420T063353
CREATED:20240219T204851Z
LAST-MODIFIED:20240219T204851Z
UID:6437-1710583200-1710601200@legacyridgegolf.ca
SUMMARY:Callaway Fitting Day
DESCRIPTION:
URL:https://legacyridgegolf.ca/events-calender/callaway-fitting-day-2/
END:VEVENT
BEGIN:VEVENT
DTSTART;TZID=America/New_York:20240323T110000
DTEND;TZID=America/New_York:20240323T170000
DTSTAMP:20260420T063353
CREATED:20240219T204922Z
LAST-MODIFIED:20240219T204922Z
UID:6438-1711191600-1711213200@legacyridgegolf.ca
SUMMARY:Ping Fitting Day
DESCRIPTION:
URL:https://legacyridgegolf.ca/events-calender/ping-fitting-day/
END:VEVENT
BEGIN:VEVENT
DTSTART;TZID=America/New_York:20240325T090000
DTEND;TZID=America/New_York:20240325T090000
DTSTAMP:20260420T063353
CREATED:20240219T204629Z
LAST-MODIFIED:20240219T204629Z
UID:6434-1711357200-1711357200@legacyridgegolf.ca
SUMMARY:Registration for Majors opens at 9:00am
DESCRIPTION:
URL:https://legacyridgegolf.ca/events-calender/registration-for-majors-opens-at-900am/
END:VEVENT
BEGIN:VEVENT
DTSTART;TZID=America/New_York:20240330T090000
DTEND;TZID=America/New_York:20240330T130000
DTSTAMP:20260420T063353
CREATED:20240219T204953Z
LAST-MODIFIED:20240219T204953Z
UID:6439-1711789200-1711803600@legacyridgegolf.ca
SUMMARY:Trade in Day
DESCRIPTION:
URL:https://legacyridgegolf.ca/events-calender/trade-in-day/
END:VEVENT
END:VCALENDAR